{"text_format":"1","workbook":"xlsx","n_sheets":3,"sheets":["Konfiguracja"," Druk_Fabryczne"," Druk_Indywidualne"],"not_rendered":{"charts":0,"images":2,"macros":1,"external_links":0,"defined_names":2,"comments":0,"pivot_tables":0},"unopened":[],"bounds":{"document_bytes":16777216,"sheet_cells":100000,"rows_first":2000,"rows_last":500,"rows_between":2000,"halvings":0,"cell_chars":16384,"cell_head_chars":4096},"cells_cut":0,"cells_raw":0,"read":"whole","date_system":"1900"}

{"sheet":"Konfiguracja","index":0,"n_rows":41,"n_cols":28,"rows_kept":41,"cut":false,"hidden":false,"merged":[[19,27,28,27],[27,21,27,23],[27,24,27,26],[28,21,28,23],[28,24,28,26],[19,3,19,26],[6,17,6,23],[3,16,5,16],[3,17,3,19],[5,17,5,19],[4,17,4,19],[20,21,20,23],[23,21,23,23],[26,21,26,23],[20,24,20,26],[21,21,21,23],[21,24,21,26],[22,21,22,23],[22,24,22,26],[23,24,23,26],[24,21,24,23],[24,24,24,26],[25,21,25,23],[25,24,25,26],[26,24,26,26],[27,9,27,11],[27,12,27,14],[28,9,28,11],[28,12,28,14],[20,15,20,17],[20,18,20,20],[21,15,21,17],[21,18,21,20],[22,15,22,17],[22,18,22,20],[23,15,23,17],[23,18,23,20],[24,15,24,17],[24,18,24,20],[25,15,25,17],[25,18,25,20],[26,15,26,17],[26,18,26,20],[27,15,27,17],[27,18,27,20],[28,15,28,17],[28,18,28,20],[23,9,23,11],[23,12,23,14],[24,9,24,11],[24,12,24,14],[26,3,26,5],[26,6,26,8],[25,6,25,8],[20,9,20,11],[20,12,20,14],[21,9,21,11],[21,12,21,14],[22,9,22,11],[22,12,22,14],[25,9,25,11],[25,12,25,14],[26,9,26,11],[26,12,26,14],[27,3,27,5],[27,6,27,8],[28,3,28,5],[28,6,28,8],[19,2,28,2],[20,3,20,5],[20,6,20,8],[21,3,21,5],[21,6,21,8],[22,3,22,5],[22,6,22,8],[23,3,23,5],[23,6,23,8],[24,3,24,5],[24,6,24,8],[25,3,25,5],[31,2,40,2],[31,3,31,26],[32,3,32,5],[32,6,32,8],[32,9,32,11],[32,12,32,14],[32,15,32,17],[32,18,32,20],[32,21,32,23],[32,24,32,26],[33,3,33,5],[33,6,33,8],[33,9,33,11],[33,12,33,14],[33,15,33,17],[33,18,33,20],[33,21,33,23],[33,24,33,26],[34,3,34,5],[34,6,34,8],[34,9,34,11],[34,12,34,14],[34,15,34,17],[34,18,34,20],[34,21,34,23],[34,24,34,26],[35,18,35,20],[35,21,35,23],[35,24,35,26],[36,3,36,5],[36,6,36,8],[36,9,36,11],[36,12,36,14],[36,15,36,17],[36,18,36,20],[36,21,36,23],[36,24,36,26],[35,3,35,5],[35,6,35,8],[35,9,35,11],[35,12,35,14],[35,15,35,17],[38,3,38,5],[38,6,38,8],[38,9,38,11],[38,12,38,14],[38,15,38,17],[38,18,38,20],[38,21,38,23],[38,24,38,26],[37,3,37,5],[37,6,37,8],[37,9,37,11],[37,12,37,14],[37,15,37,17],[31,27,40,27],[1,1,2,28],[3,20,3,28],[4,20,4,28],[5,20,5,28],[39,18,39,20],[39,21,39,23],[39,24,39,26],[40,3,40,5],[40,6,40,8],[40,9,40,11],[40,12,40,14],[40,15,40,17],[40,18,40,20],[40,21,40,23],[40,24,40,26],[39,3,39,5],[39,6,39,8],[39,9,39,11],[39,12,39,14],[39,15,39,17],[37,18,37,20],[37,21,37,23],[37,24,37,26]]}
[]
[null,"Sygnalizacja Centralna SC-64\n* konfigurator wsuwek * "]
[]
[null,null,null,null,null,null,null,null,null,null,null,null,null,null,null,null,1,"Obiekt",null,null,"XXX"]
[null,null,null,null,null,null,null,null,null,null,null,null,null,null,null,null,null,"miesiąc_rok",null,null,"01.08.2019"]
[null,null,null,null,null,null,null,null,null,null,null,null,null,null,null,null,null,"nr. fabryczny",null,null,190015]
[]
[]
[]
[]
[]
[]
[]
[]
[]
[]
[]
[]
[]
[null,null,2,"Opisy wsuwek frontu urządzenia ",null,null,null,null,null,null,null,null,null,null,null,null,null,null,null,null,null,null,null,null,null,null,null,"USTAWIENIA FABRYCZNE"]
[null,null,null,"Opis grupy 1",null,null,"Opis grupy 2 ",null,null,"Opis grupy 3",null,null,"Opis grupy 4 ",null,null,"Opis grupy 5",null,null,"Opis grupy 6 ",null,null,"Opis grupy 7",null,null,"Opis grupy 8 "]
[null,null,null,"Sygn. 1",null,null,"Sygn. 9",null,null,"Sygn. 17",null,null,"Sygn. 25",null,null,"Sygn. 33",null,null,"Sygn. 41",null,null,"Sygn. 49",null,null,"Sygn. 57"]
[null,null,null,"Sygn. 2",null,null,"Sygn. 10",null,null,"Sygn. 18",null,null,"Sygn. 26",null,null,"Sygn. 34",null,null,"Sygn. 42",null,null,"Sygn. 50",null,null,"Sygn. 58"]
[null,null,null,"Sygn. 3",null,null,"Sygn. 11",null,null,"Sygn. 19",null,null,"Sygn. 27",null,null,"Sygn. 35",null,null,"Sygn. 43",null,null,"Sygn. 51",null,null,"Sygn. 59"]
[null,null,null,"Sygn. 4",null,null,"Sygn. 12",null,null,"Sygn. 20",null,null,"Sygn. 28",null,null,"Sygn. 36",null,null,"Sygn. 44",null,null,"Sygn. 52",null,null,"Sygn. 60"]
[null,null,null,"Sygn. 5",null,null,"Sygn. 13",null,null,"Sygn. 21",null,null,"Sygn. 29",null,null,"Sygn. 37",null,null,"Sygn. 45",null,null,"Sygn. 53",null,null,"Sygn. 61"]
[null,null,null,"Sygn. 6",null,null,"Sygn. 14",null,null,"Sygn. 22",null,null,"Sygn. 30",null,null,"Sygn. 38",null,null,"Sygn. 46",null,null,"Sygn. 54",null,null,"Sygn. 62"]
[null,null,null,"Sygn. 7",null,null,"Sygn. 15",null,null,"Sygn. 23",null,null,"Sygn. 31",null,null,"Sygn. 39",null,null,"Sygn. 47",null,null,"Sygn. 55",null,null,"Sygn. 63"]
[null,null,null,"Sygn. 8",null,null,"Sygn. 16",null,null,"Sygn. 24",null,null,"Sygn. 32",null,null,"Sygn. 40",null,null,"Sygn. 48",null,null,"Sygn. 56",null,null,"Sygn. 64"]
[]
[]
[null,null,3,"Opisy wsuwek frontu urządzenia ",null,null,null,null,null,null,null,null,null,null,null,null,null,null,null,null,null,null,null,null,null,null,null,"USTAWIENIA INDYWIDUALNE"]
[null,null,null,"Opis grupy 1",null,null,"Opis grupy 2 ",null,null,"Opis grupy 3",null,null,"Opis grupy 4 ",null,null,"Opis grupy 5",null,null,"Opis grupy 6 ",null,null,"Opis grupy 7",null,null,"Opis grupy 8 "]
[null,null,null,"Sygn. 1",null,null,"Sygn. 9",null,null,"Sygn. 17",null,null,"Sygn. 25",null,null,"Sygn. 33",null,null,"Sygn. 41",null,null,"Sygn. 49",null,null,"Sygn. 57"]
[null,null,null,"Sygn. 2",null,null,"Sygn. 10",null,null,"Sygn. 18",null,null,"Sygn. 26",null,null,"Sygn. 34",null,null,"Sygn. 42",null,null,"Sygn. 50",null,null,"Sygn. 58"]
[null,null,null,"Sygn. 3",null,null,"Sygn. 11",null,null,"Sygn. 19",null,null,"Sygn. 27",null,null,"Sygn. 35",null,null,"Sygn. 43",null,null,"Sygn. 51",null,null,"Sygn. 59"]
[null,null,null,"Sygn. 4",null,null,"Sygn. 12",null,null,"Sygn. 20",null,null,"Sygn. 28",null,null,"Sygn. 36",null,null,"Sygn. 44",null,null,"Sygn. 52",null,null,"Sygn. 60"]
[null,null,null,"Sygn. 5",null,null,"Sygn. 13",null,null,"Sygn. 21",null,null,"Sygn. 29",null,null,"Sygn. 37",null,null,"Sygn. 45",null,null,"Sygn. 53",null,null,"Sygn. 61"]
[null,null,null,"Sygn. 6",null,null,"Sygn. 14",null,null,"Sygn. 22",null,null,"Sygn. 30",null,null,"Sygn. 38",null,null,"Sygn. 46",null,null,"Sygn. 54",null,null,"Sygn. 62"]
[null,null,null,"Sygn. 7",null,null,"Sygn. 15",null,null,"Sygn. 23",null,null,"Sygn. 31",null,null,"Sygn. 39",null,null,"Sygn. 47",null,null,"Sygn. 55",null,null,"Sygn. 63"]
[null,null,null,"Sygn. 8",null,null,"Sygn. 16",null,null,"Sygn. 24",null,null,"Sygn. 32",null,null,"Sygn. 40",null,null,"Sygn. 48",null,null,"Sygn. 56",null,null,"Sygn. 64"]

{"sheet":" Druk_Fabryczne","index":1,"n_rows":42,"n_cols":8,"rows_kept":42,"cut":false,"hidden":true,"merged":[]}
[]
[]
[]
[]
[null,null,null,"A1","A2",null,"A3","A4"]
[null,null,null,{"$f":"Konfiguracja!D21","v":"Opis grupy 1"},{"$f":"Konfiguracja!G21","v":"Opis grupy 2 "},null,{"$f":"Konfiguracja!J21","v":"Opis grupy 3"},{"$f":"Konfiguracja!M21","v":"Opis grupy 4 "}]
[]
[null,null,null,{"$f":"Konfiguracja!D22","v":"Sygn. 1"},{"$f":"Konfiguracja!G22","v":"Sygn. 9"},null,{"$f":"Konfiguracja!J22","v":"Sygn. 17"},{"$f":"Konfiguracja!M22","v":"Sygn. 25"}]
[]
[null,null,null,{"$f":"Konfiguracja!D23","v":"Sygn. 2"},{"$f":"Konfiguracja!G23","v":"Sygn. 10"},null,{"$f":"Konfiguracja!J23","v":"Sygn. 18"},{"$f":"Konfiguracja!M23","v":"Sygn. 26"}]
[]
[null,null,null,{"$f":"Konfiguracja!D24","v":"Sygn. 3"},{"$f":"Konfiguracja!G24","v":"Sygn. 11"},null,{"$f":"Konfiguracja!J24","v":"Sygn. 19"},{"$f":"Konfiguracja!M24","v":"Sygn. 27"}]
[]
[null,null,null,{"$f":"Konfiguracja!D25","v":"Sygn. 4"},{"$f":"Konfiguracja!G25","v":"Sygn. 12"},null,{"$f":"Konfiguracja!J25","v":"Sygn. 20"},{"$f":"Konfiguracja!M25","v":"Sygn. 28"}]
[]
[null,null,null,{"$f":"Konfiguracja!D26","v":"Sygn. 5"},{"$f":"Konfiguracja!G26","v":"Sygn. 13"},null,{"$f":"Konfiguracja!J26","v":"Sygn. 21"},{"$f":"Konfiguracja!M26","v":"Sygn. 29"}]
[]
[null,null,null,{"$f":"Konfiguracja!D27","v":"Sygn. 6"},{"$f":"Konfiguracja!G27","v":"Sygn. 14"},null,{"$f":"Konfiguracja!J27","v":"Sygn. 22"},{"$f":"Konfiguracja!M27","v":"Sygn. 30"}]
[]
[null,null,null,{"$f":"Konfiguracja!D28","v":"Sygn. 7"},"Sygn. 15",null,{"$f":"Konfiguracja!J28","v":"Sygn. 23"},{"$f":"Konfiguracja!M28","v":"Sygn. 31"}]
[]
[null,null,null,{"$f":"Konfiguracja!D29","v":"Sygn. 8"},{"$f":"Konfiguracja!G29","v":"Sygn. 16"},null,{"$f":"Konfiguracja!J29","v":"Sygn. 24"},{"$f":"Konfiguracja!M29","v":"Sygn. 32"}]
[]
[]
[null,null,null,"A5","A6",null,"A7","A8"]
[null,null,null,{"$f":"Konfiguracja!P21","v":"Opis grupy 5"},{"$f":"Konfiguracja!S21","v":"Opis grupy 6 "},null,{"$f":"Konfiguracja!V21","v":"Opis grupy 7"},{"$f":"Konfiguracja!Y21","v":"Opis grupy 8 "}]
[]
[null,null,null,{"$f":"Konfiguracja!P22","v":"Sygn. 33"},{"$f":"Konfiguracja!S22","v":"Sygn. 41"},null,{"$f":"Konfiguracja!V22","v":"Sygn. 49"},{"$f":"Konfiguracja!Y22","v":"Sygn. 57"}]
[]
[null,null,null,{"$f":"Konfiguracja!P23","v":"Sygn. 34"},{"$f":"Konfiguracja!S23","v":"Sygn. 42"},null,{"$f":"Konfiguracja!V23","v":"Sygn. 50"},{"$f":"Konfiguracja!Y23","v":"Sygn. 58"}]
[]
[null,null,null,{"$f":"Konfiguracja!P24","v":"Sygn. 35"},{"$f":"Konfiguracja!S24","v":"Sygn. 43"},null,{"$f":"Konfiguracja!V24","v":"Sygn. 51"},{"$f":"Konfiguracja!Y24","v":"Sygn. 59"}]
[]
[null,null,null,{"$f":"Konfiguracja!P25","v":"Sygn. 36"},{"$f":"Konfiguracja!S25","v":"Sygn. 44"},null,{"$f":"Konfiguracja!V25","v":"Sygn. 52"},{"$f":"Konfiguracja!Y25","v":"Sygn. 60"}]
[]
[null,null,null,{"$f":"Konfiguracja!P26","v":"Sygn. 37"},{"$f":"Konfiguracja!S26","v":"Sygn. 45"},null,{"$f":"Konfiguracja!V26","v":"Sygn. 53"},{"$f":"Konfiguracja!Y26","v":"Sygn. 61"}]
[]
[null,null,null,{"$f":"Konfiguracja!P27","v":"Sygn. 38"},{"$f":"Konfiguracja!S27","v":"Sygn. 46"},null,{"$f":"Konfiguracja!V27","v":"Sygn. 54"},{"$f":"Konfiguracja!Y27","v":"Sygn. 62"}]
[]
[null,null,null,{"$f":"Konfiguracja!P28","v":"Sygn. 39"},{"$f":"Konfiguracja!S28","v":"Sygn. 47"},null,{"$f":"Konfiguracja!V28","v":"Sygn. 55"},{"$f":"Konfiguracja!Y28","v":"Sygn. 63"}]
[]
[null,null,null,{"$f":"Konfiguracja!P29","v":"Sygn. 40"},{"$f":"Konfiguracja!S29","v":"Sygn. 48"},null,{"$f":"Konfiguracja!V29","v":"Sygn. 56"},{"$f":"Konfiguracja!Y29","v":"Sygn. 64"}]

{"sheet":" Druk_Indywidualne","index":2,"n_rows":42,"n_cols":8,"rows_kept":42,"cut":false,"hidden":true,"merged":[]}
[]
[]
[]
[]
[null,null,null,"A1","A2",null,"A3","A4"]
[null,null,null,{"$f":"Konfiguracja!D33","v":"Opis grupy 1"},{"$f":"Konfiguracja!G33","v":"Opis grupy 2 "},null,{"$f":"Konfiguracja!J33","v":"Opis grupy 3"},{"$f":"Konfiguracja!M33","v":"Opis grupy 4 "}]
[]
[null,null,null,{"$f":"Konfiguracja!D34","v":"Sygn. 1"},{"$f":"Konfiguracja!G34","v":"Sygn. 9"},null,{"$f":"Konfiguracja!J34","v":"Sygn. 17"},{"$f":"Konfiguracja!M34","v":"Sygn. 25"}]
[]
[null,null,null,{"$f":"Konfiguracja!D35","v":"Sygn. 2"},{"$f":"Konfiguracja!G35","v":"Sygn. 10"},null,{"$f":"Konfiguracja!J35","v":"Sygn. 18"},{"$f":"Konfiguracja!M35","v":"Sygn. 26"}]
[]
[null,null,null,{"$f":"Konfiguracja!D36","v":"Sygn. 3"},{"$f":"Konfiguracja!G36","v":"Sygn. 11"},null,{"$f":"Konfiguracja!J36","v":"Sygn. 19"},{"$f":"Konfiguracja!M36","v":"Sygn. 27"}]
[]
[null,null,null,{"$f":"Konfiguracja!D37","v":"Sygn. 4"},{"$f":"Konfiguracja!G37","v":"Sygn. 12"},null,{"$f":"Konfiguracja!J37","v":"Sygn. 20"},{"$f":"Konfiguracja!M37","v":"Sygn. 28"}]
[]
[null,null,null,{"$f":"Konfiguracja!D38","v":"Sygn. 5"},{"$f":"Konfiguracja!G38","v":"Sygn. 13"},null,{"$f":"Konfiguracja!J38","v":"Sygn. 21"},{"$f":"Konfiguracja!M38","v":"Sygn. 29"}]
[]
[null,null,null,{"$f":"Konfiguracja!D39","v":"Sygn. 6"},{"$f":"Konfiguracja!G39","v":"Sygn. 14"},null,{"$f":"Konfiguracja!J39","v":"Sygn. 22"},{"$f":"Konfiguracja!M39","v":"Sygn. 30"}]
[]
[null,null,null,{"$f":"Konfiguracja!D40","v":"Sygn. 7"},{"$f":"Konfiguracja!G40","v":"Sygn. 15"},null,{"$f":"Konfiguracja!J40","v":"Sygn. 23"},{"$f":"Konfiguracja!M40","v":"Sygn. 31"}]
[]
[null,null,null,{"$f":"Konfiguracja!D41","v":"Sygn. 8"},{"$f":"Konfiguracja!G41","v":"Sygn. 16"},null,{"$f":"Konfiguracja!J41","v":"Sygn. 24"},{"$f":"Konfiguracja!M41","v":"Sygn. 32"}]
[]
[]
[null,null,null,"A5","A6",null,"A7","A8"]
[null,null,null,{"$f":"Konfiguracja!P33","v":"Opis grupy 5"},{"$f":"Konfiguracja!S33","v":"Opis grupy 6 "},null,{"$f":"Konfiguracja!V33","v":"Opis grupy 7"},{"$f":"Konfiguracja!Y33","v":"Opis grupy 8 "}]
[]
[null,null,null,{"$f":"Konfiguracja!P34","v":"Sygn. 33"},{"$f":"Konfiguracja!S34","v":"Sygn. 41"},null,{"$f":"Konfiguracja!V34","v":"Sygn. 49"},{"$f":"Konfiguracja!Y34","v":"Sygn. 57"}]
[]
[null,null,null,{"$f":"Konfiguracja!P35","v":"Sygn. 34"},{"$f":"Konfiguracja!S35","v":"Sygn. 42"},null,{"$f":"Konfiguracja!V35","v":"Sygn. 50"},{"$f":"Konfiguracja!Y35","v":"Sygn. 58"}]
[]
[null,null,null,{"$f":"Konfiguracja!P36","v":"Sygn. 35"},{"$f":"Konfiguracja!S36","v":"Sygn. 43"},null,{"$f":"Konfiguracja!V36","v":"Sygn. 51"},{"$f":"Konfiguracja!Y36","v":"Sygn. 59"}]
[]
[null,null,null,{"$f":"Konfiguracja!P37","v":"Sygn. 36"},{"$f":"Konfiguracja!S37","v":"Sygn. 44"},null,{"$f":"Konfiguracja!V37","v":"Sygn. 52"},{"$f":"Konfiguracja!Y37","v":"Sygn. 60"}]
[]
[null,null,null,{"$f":"Konfiguracja!P38","v":"Sygn. 37"},{"$f":"Konfiguracja!S38","v":"Sygn. 45"},null,{"$f":"Konfiguracja!V38","v":"Sygn. 53"},{"$f":"Konfiguracja!Y38","v":"Sygn. 61"}]
[]
[null,null,null,{"$f":"Konfiguracja!P39","v":"Sygn. 38"},{"$f":"Konfiguracja!S39","v":"Sygn. 46"},null,{"$f":"Konfiguracja!V39","v":"Sygn. 54"},{"$f":"Konfiguracja!Y39","v":"Sygn. 62"}]
[]
[null,null,null,{"$f":"Konfiguracja!P40","v":"Sygn. 39"},{"$f":"Konfiguracja!S40","v":"Sygn. 47"},null,{"$f":"Konfiguracja!V40","v":"Sygn. 55"},{"$f":"Konfiguracja!Y40","v":"Sygn. 63"}]
[]
[null,null,null,{"$f":"Konfiguracja!P41","v":"Sygn. 40"},{"$f":"Konfiguracja!S41","v":"Sygn. 48"},null,{"$f":"Konfiguracja!V41","v":"Sygn. 56"},{"$f":"Konfiguracja!Y41","v":"Sygn. 64"}]